BEGIN:VCALENDAR
VERSION:2.0
PRODID:-//hacksw/handcal//NONSGML v1.0//EN
BEGIN:VEVENT
SUMMARY:Jeu libre de 19H A 21H
UID:7320ed84-def0-47c5-ac3b-262ee7003d49
DTSTART:20260429T170000Z
DTEND:20260429T190000Z
LOCATION:Localisation   
CATEGORIES:Sportif
STATUS:
URL;VALUE=URI:https://sceauxtt.sportsregions.fr/evenements/2026/04/29/jeu-libre-de-19h-a-21h-2441932
END:VEVENT
END:VCALENDAR
