BEGIN:VCALENDAR
VERSION:2.0
PRODID:-//hacksw/handcal//NONSGML v1.0//EN
BEGIN:VEVENT
SUMMARY:Jeu libre de 19H A 21H
UID:28fe4cc4-db4d-4cae-a7f8-501b218c8ab8
DTSTART:20260427T170000Z
DTEND:20260427T190000Z
LOCATION:Localisation   
CATEGORIES:Sportif
STATUS:
URL;VALUE=URI:https://sceauxtt.sportsregions.fr/evenements/2026/04/27/jeu-libre-de-19h-a-21h-2441931
END:VEVENT
END:VCALENDAR
