BEGIN:VCALENDAR
VERSION:2.0
PRODID:-//hacksw/handcal//NONSGML v1.0//EN
BEGIN:VEVENT
SUMMARY:Jeu libre de 19H A 21H
UID:6592bdcc-017b-44f8-90d3-ecd04b62b7da
DTSTART:20260422T170000Z
DTEND:20260422T190000Z
LOCATION:Localisation   
CATEGORIES:Sportif
STATUS:
URL;VALUE=URI:https://sceauxtt.sportsregions.fr/evenements/2026/04/22/jeu-libre-de-19h-a-21h-2441929
END:VEVENT
END:VCALENDAR
