BEGIN:VCALENDAR
VERSION:2.0
PRODID:-//hacksw/handcal//NONSGML v1.0//EN
BEGIN:VEVENT
SUMMARY:Jeu libre de 19H A 21H
UID:68b494ae-7b25-4460-be8b-4a58f0d067a7
DTSTART:20260420T170000Z
DTEND:20260420T190000Z
LOCATION:Localisation   
CATEGORIES:Sportif
STATUS:
URL;VALUE=URI:https://sceauxtt.sportsregions.fr/evenements/2026/04/20/jeu-libre-de-19h-a-21h-2441928
END:VEVENT
END:VCALENDAR
