BEGIN:VCALENDAR
VERSION:2.0
PRODID:-//hacksw/handcal//NONSGML v1.0//EN
BEGIN:VEVENT
SUMMARY:Resultat 4eme rencontre phase 2 SCEAUX TT1 PR
UID:6cc94a93-1154-4637-a3f4-37dec1433067
DTSTART:20260409T220000Z
DTEND:20260410T220000Z
LOCATION:Localisation   
CATEGORIES:Sportif
STATUS:
URL;VALUE=URI:https://sceauxtt.sportsregions.fr/evenements/2026/04/10/resultat-4eme-rencontre-phase-2-sceaux-tt1-pr-2441628
END:VEVENT
END:VCALENDAR
